Package: multiscan Version: 1.67.0 Command: chmod a+r multiscan -R && E:\biocbuild\bbs-3.21-bioc\R\bin\R.exe CMD build --keep-empty-dirs --no-resave-data multiscan StartedAt: 2025-02-09 20:14:09 -0500 (Sun, 09 Feb 2025) EndedAt: 2025-02-09 20:14:28 -0500 (Sun, 09 Feb 2025) EllapsedTime: 18.7 seconds RetCode: 0 Status: OK PackageFile: multiscan_1.67.0.tar.gz PackageFileSize: 532.4 KiB