Package: multiscan Version: 1.67.0 Command: E:\biocbuild\bbs-3.21-bioc\R\bin\R.exe CMD check --no-multiarch --install=check:multiscan.install-out.txt --library=E:\biocbuild\bbs-3.21-bioc\R\library --no-vignettes --timings multiscan_1.67.0.tar.gz StartedAt: 2025-02-10 03:27:25 -0500 (Mon, 10 Feb 2025) EndedAt: 2025-02-10 03:28:16 -0500 (Mon, 10 Feb 2025) EllapsedTime: 51.1 seconds RetCode: 0 Status: OK CheckDir: multiscan.Rcheck Warnings: 0