Package: multistateQTL Version: 1.3.2 Command: rm -rf multistateQTL.buildbin-libdir && mkdir multistateQTL.buildbin-libdir && /Users/biocbuild/BBS/utils/build-universal.sh multistateQTL_1.3.2.tar.gz /Library/Frameworks/R.framework/Resources/bin/R multistateQTL.buildbin-libdir StartedAt: 2025-02-03 22:58:46 -0500 (Mon, 03 Feb 2025) EndedAt: 2025-02-03 22:58:58 -0500 (Mon, 03 Feb 2025) EllapsedTime: 12.2 seconds RetCode: 0 Status: OK PackageFile: multistateQTL_1.3.2.tgz PackageFileSize: 866.2 KiB