Package: multistateQTL Version: 1.3.2 Command: /Library/Frameworks/R.framework/Resources/bin/R CMD build --keep-empty-dirs --no-resave-data multistateQTL StartedAt: 2025-02-03 17:41:15 -0500 (Mon, 03 Feb 2025) EndedAt: 2025-02-03 17:41:38 -0500 (Mon, 03 Feb 2025) EllapsedTime: 22.3 seconds RetCode: 0 Status: OK PackageFile: multistateQTL_1.3.2.tar.gz PackageFileSize: 787.9 KiB