Package: multistateQTL Version: 1.3.2 Command: /Library/Frameworks/R.framework/Resources/bin/R CMD INSTALL multistateQTL StartedAt: 2025-02-03 16:03:57 -0500 (Mon, 03 Feb 2025) EndedAt: 2025-02-03 16:04:09 -0500 (Mon, 03 Feb 2025) EllapsedTime: 11.4 seconds RetCode: 0 Status: OK