Package: multistateQTL Version: 1.3.2 Command: /home/biocbuild/R/R/bin/R CMD build --keep-empty-dirs --no-resave-data multistateQTL StartedAt: 2025-01-29 00:45:21 -0000 (Wed, 29 Jan 2025) EndedAt: 2025-01-29 00:46:39 -0000 (Wed, 29 Jan 2025) EllapsedTime: 78.0 seconds RetCode: 0 Status: OK PackageFile: multistateQTL_1.3.2.tar.gz PackageFileSize: 605.3 KiB