Package: multistateQTL Version: 1.3.2 Command: /home/biocbuild/R/R/bin/R CMD INSTALL multistateQTL StartedAt: 2025-01-29 20:35:45 -0000 (Wed, 29 Jan 2025) EndedAt: 2025-01-29 20:36:23 -0000 (Wed, 29 Jan 2025) EllapsedTime: 38.1 seconds RetCode: 0 Status: OK