Package: multistateQTL Version: 1.3.2 Command: /Library/Frameworks/R.framework/Resources/bin/R CMD INSTALL multistateQTL StartedAt: 2025-02-09 15:45:00 -0500 (Sun, 09 Feb 2025) EndedAt: 2025-02-09 15:45:37 -0500 (Sun, 09 Feb 2025) EllapsedTime: 37.2 seconds RetCode: 0 Status: OK