Package: multistateQTL Version: 1.3.2 Command: /home/biocbuild/bbs-3.21-bioc/R/bin/R CMD check --install=check:multistateQTL.install-out.txt --library=/home/biocbuild/bbs-3.21-bioc/R/site-library --timings multistateQTL_1.3.2.tar.gz StartedAt: 2025-02-10 00:39:12 -0500 (Mon, 10 Feb 2025) EndedAt: 2025-02-10 00:43:28 -0500 (Mon, 10 Feb 2025) EllapsedTime: 255.6 seconds RetCode: 0 Status: OK CheckDir: multistateQTL.Rcheck Warnings: 0