Package: multistateQTL Version: 1.3.2 Command: /home/biocbuild/bbs-3.21-bioc/R/bin/R CMD INSTALL multistateQTL StartedAt: 2025-02-09 15:31:47 -0500 (Sun, 09 Feb 2025) EndedAt: 2025-02-09 15:32:13 -0500 (Sun, 09 Feb 2025) EllapsedTime: 26.0 seconds RetCode: 0 Status: OK