Package: multistateQTL Version: 1.3.2 Command: rm -rf multistateQTL.buildbin-libdir && mkdir multistateQTL.buildbin-libdir && E:\biocbuild\bbs-3.21-bioc\R\bin\R.exe CMD INSTALL --build --library=multistateQTL.buildbin-libdir multistateQTL_1.3.2.tar.gz StartedAt: 2025-02-05 08:26:53 -0500 (Wed, 05 Feb 2025) EndedAt: 2025-02-05 08:27:46 -0500 (Wed, 05 Feb 2025) EllapsedTime: 53.4 seconds RetCode: 0 Status: OK PackageFile: multistateQTL_1.3.2.zip PackageFileSize: 571.8 KiB