Package: multistateQTL Version: 1.3.2 Command: chmod a+r multistateQTL -R && E:\biocbuild\bbs-3.21-bioc\R\bin\R.exe CMD build --keep-empty-dirs --no-resave-data multistateQTL StartedAt: 2025-02-04 20:16:59 -0500 (Tue, 04 Feb 2025) EndedAt: 2025-02-04 20:18:37 -0500 (Tue, 04 Feb 2025) EllapsedTime: 98.1 seconds RetCode: 0 Status: OK PackageFile: multistateQTL_1.3.2.tar.gz PackageFileSize: 491 KiB