Package: multistateQTL Version: 1.3.2 Command: E:\biocbuild\bbs-3.21-bioc\R\bin\R.exe CMD check --no-multiarch --install=check:multistateQTL.install-out.txt --library=E:\biocbuild\bbs-3.21-bioc\R\library --no-vignettes --timings multistateQTL_1.3.2.tar.gz StartedAt: 2025-02-05 03:53:44 -0500 (Wed, 05 Feb 2025) EndedAt: 2025-02-05 03:58:24 -0500 (Wed, 05 Feb 2025) EllapsedTime: 279.7 seconds RetCode: 0 Status: OK CheckDir: multistateQTL.Rcheck Warnings: 0