Package: multistateQTL Version: 1.3.2 Command: E:\biocbuild\bbs-3.21-bioc\R\bin\R.exe CMD INSTALL multistateQTL StartedAt: 2025-02-04 16:56:22 -0500 (Tue, 04 Feb 2025) EndedAt: 2025-02-04 16:57:03 -0500 (Tue, 04 Feb 2025) EllapsedTime: 41.6 seconds RetCode: 0 Status: OK