Package: mumosa Version: 1.15.0 Command: /home/biocbuild/bbs-3.21-bioc/R/bin/R CMD INSTALL mumosa StartedAt: 2025-02-09 15:54:01 -0500 (Sun, 09 Feb 2025) EndedAt: 2025-02-09 15:54:30 -0500 (Sun, 09 Feb 2025) EllapsedTime: 28.8 seconds RetCode: 0 Status: OK