Package: mumosa Version: 1.15.0 Command: rm -rf mumosa.buildbin-libdir && mkdir mumosa.buildbin-libdir && E:\biocbuild\bbs-3.21-bioc\R\bin\R.exe CMD INSTALL --build --library=mumosa.buildbin-libdir mumosa_1.15.0.tar.gz StartedAt: 2025-02-10 08:15:16 -0500 (Mon, 10 Feb 2025) EndedAt: 2025-02-10 08:15:54 -0500 (Mon, 10 Feb 2025) EllapsedTime: 38.0 seconds RetCode: 0 Status: OK PackageFile: mumosa_1.15.0.zip PackageFileSize: 494.1 KiB