Package: mumosa Version: 1.15.0 Command: E:\biocbuild\bbs-3.21-bioc\R\bin\R.exe CMD check --no-multiarch --install=check:mumosa.install-out.txt --library=E:\biocbuild\bbs-3.21-bioc\R\library --no-vignettes --timings mumosa_1.15.0.tar.gz StartedAt: 2025-02-10 03:28:11 -0500 (Mon, 10 Feb 2025) EndedAt: 2025-02-10 03:35:01 -0500 (Mon, 10 Feb 2025) EllapsedTime: 410.7 seconds RetCode: 0 Status: OK CheckDir: mumosa.Rcheck Warnings: 0