Package: muscle Version: 3.49.0 Command: /Library/Frameworks/R.framework/Resources/bin/R CMD build --keep-empty-dirs --no-resave-data muscle StartedAt: 2025-02-09 17:05:16 -0500 (Sun, 09 Feb 2025) EndedAt: 2025-02-09 17:05:21 -0500 (Sun, 09 Feb 2025) EllapsedTime: 5.1 seconds RetCode: 1 Status: ERROR PackageFile: None PackageFileSize: NA