Package: muscle Version: 3.49.0 Command: /home/biocbuild/bbs-3.21-bioc/R/bin/R CMD INSTALL muscle StartedAt: 2025-02-12 15:24:29 -0500 (Wed, 12 Feb 2025) EndedAt: 2025-02-12 15:24:44 -0500 (Wed, 12 Feb 2025) EllapsedTime: 14.5 seconds RetCode: 1 Status: ERROR