Package: mygene Version: 1.43.0 Maintainer: Adam Mark, Cyrus Afrasiabi, Chunlei Wu MaintainerEmail: cwu at scripps.edu git_url: https://git.bioconductor.org/packages/mygene git_branch: devel git_last_commit: 66cce1e git_last_commit_date: 2024-10-29 09:56:47 -0500 (Tue, 29 Oct 2024)