Package: mygene Version: 1.43.0 Command: /Library/Frameworks/R.framework/Resources/bin/R CMD build --keep-empty-dirs --no-resave-data mygene StartedAt: 2025-02-12 17:05:34 -0500 (Wed, 12 Feb 2025) EndedAt: 2025-02-12 17:06:03 -0500 (Wed, 12 Feb 2025) EllapsedTime: 28.3 seconds RetCode: 0 Status: OK PackageFile: mygene_1.43.0.tar.gz PackageFileSize: 166.8 KiB