Package: mygene Version: 1.43.0 Command: /home/biocbuild/R/R/bin/R CMD build --keep-empty-dirs --no-resave-data mygene StartedAt: 2025-01-29 00:46:37 -0000 (Wed, 29 Jan 2025) EndedAt: 2025-01-29 00:47:57 -0000 (Wed, 29 Jan 2025) EllapsedTime: 80.0 seconds RetCode: 0 Status: OK PackageFile: mygene_1.43.0.tar.gz PackageFileSize: 159.6 KiB