Package: mygene Version: 1.43.0 Command: rm -rf mygene.buildbin-libdir && mkdir mygene.buildbin-libdir && /Users/biocbuild/BBS/utils/build-universal.sh mygene_1.43.0.tar.gz /Library/Frameworks/R.framework/Resources/bin/R mygene.buildbin-libdir StartedAt: 2025-02-10 01:05:26 -0500 (Mon, 10 Feb 2025) EndedAt: 2025-02-10 01:06:22 -0500 (Mon, 10 Feb 2025) EllapsedTime: 56.6 seconds RetCode: 0 Status: OK PackageFile: mygene_1.43.0.tgz PackageFileSize: 223.3 KiB