Package: mygene Version: 1.43.0 Command: /home/biocbuild/bbs-3.21-bioc/R/bin/R CMD build --keep-empty-dirs --no-resave-data mygene StartedAt: 2025-02-09 18:21:49 -0500 (Sun, 09 Feb 2025) EndedAt: 2025-02-09 18:22:48 -0500 (Sun, 09 Feb 2025) EllapsedTime: 59.0 seconds RetCode: 0 Status: OK PackageFile: mygene_1.43.0.tar.gz PackageFileSize: 166.8 KiB