Package: mygene Version: 1.43.0 Command: /home/biocbuild/bbs-3.21-bioc/R/bin/R CMD check --install=check:mygene.install-out.txt --library=/home/biocbuild/bbs-3.21-bioc/R/site-library --timings mygene_1.43.0.tar.gz StartedAt: 2025-02-10 00:41:10 -0500 (Mon, 10 Feb 2025) EndedAt: 2025-02-10 00:45:51 -0500 (Mon, 10 Feb 2025) EllapsedTime: 280.7 seconds RetCode: 0 Status: OK CheckDir: mygene.Rcheck Warnings: 0