Package: mygene Version: 1.43.0 Command: chmod a+r mygene -R && E:\biocbuild\bbs-3.21-bioc\R\bin\R.exe CMD build --keep-empty-dirs --no-resave-data mygene StartedAt: 2025-02-09 20:16:02 -0500 (Sun, 09 Feb 2025) EndedAt: 2025-02-09 20:17:16 -0500 (Sun, 09 Feb 2025) EllapsedTime: 74.1 seconds RetCode: 0 Status: OK PackageFile: mygene_1.43.0.tar.gz PackageFileSize: 168 KiB