Package: mzID Version: 1.45.0 Command: /Library/Frameworks/R.framework/Resources/bin/R CMD INSTALL mzID StartedAt: 2025-02-09 15:03:16 -0500 (Sun, 09 Feb 2025) EndedAt: 2025-02-09 15:03:19 -0500 (Sun, 09 Feb 2025) EllapsedTime: 3.3 seconds RetCode: 0 Status: OK