Package: mzID Version: 1.45.0 Command: /home/biocbuild/R/R/bin/R CMD INSTALL mzID StartedAt: 2025-01-29 19:35:12 -0000 (Wed, 29 Jan 2025) EndedAt: 2025-01-29 19:35:22 -0000 (Wed, 29 Jan 2025) EllapsedTime: 10.1 seconds RetCode: 0 Status: OK