Package: mzID Version: 1.45.0 Command: /Library/Frameworks/R.framework/Resources/bin/R CMD check --install=check:mzID.install-out.txt --library=/Library/Frameworks/R.framework/Resources/library --no-vignettes --timings mzID_1.45.0.tar.gz StartedAt: 2025-02-09 22:16:21 -0500 (Sun, 09 Feb 2025) EndedAt: 2025-02-09 22:17:10 -0500 (Sun, 09 Feb 2025) EllapsedTime: 49.3 seconds RetCode: 0 Status: OK CheckDir: mzID.Rcheck Warnings: 0