Package: mzID Version: 1.45.0 Command: /home/biocbuild/bbs-3.21-bioc/R/bin/R CMD build --keep-empty-dirs --no-resave-data mzID StartedAt: 2025-02-03 18:31:21 -0500 (Mon, 03 Feb 2025) EndedAt: 2025-02-03 18:31:30 -0500 (Mon, 03 Feb 2025) EllapsedTime: 9.0 seconds RetCode: 0 Status: OK PackageFile: mzID_1.45.0.tar.gz PackageFileSize: 582.2 KiB