Package: mzID Version: 1.45.0 Command: /home/biocbuild/bbs-3.21-bioc/R/bin/R CMD INSTALL mzID StartedAt: 2025-02-03 15:15:22 -0500 (Mon, 03 Feb 2025) EndedAt: 2025-02-03 15:15:46 -0500 (Mon, 03 Feb 2025) EllapsedTime: 24.6 seconds RetCode: 0 Status: OK