Package: mzID Version: 1.45.0 Command: rm -rf mzID.buildbin-libdir && mkdir mzID.buildbin-libdir && E:\biocbuild\bbs-3.21-bioc\R\bin\R.exe CMD INSTALL --build --library=mzID.buildbin-libdir mzID_1.45.0.tar.gz StartedAt: 2025-02-04 08:29:19 -0500 (Tue, 04 Feb 2025) EndedAt: 2025-02-04 08:29:49 -0500 (Tue, 04 Feb 2025) EllapsedTime: 29.6 seconds RetCode: 0 Status: OK PackageFile: mzID_1.45.0.zip PackageFileSize: 817.4 KiB