Package: mzID Version: 1.45.0 Command: E:\biocbuild\bbs-3.21-bioc\R\bin\R.exe CMD INSTALL mzID StartedAt: 2025-02-03 15:41:01 -0500 (Mon, 03 Feb 2025) EndedAt: 2025-02-03 15:41:22 -0500 (Mon, 03 Feb 2025) EllapsedTime: 21.1 seconds RetCode: 0 Status: OK