Package: mzR Version: 2.41.1 Command: rm -rf mzR.buildbin-libdir && mkdir mzR.buildbin-libdir && /Users/biocbuild/BBS/utils/build-universal.sh mzR_2.41.1.tar.gz /Library/Frameworks/R.framework/Resources/bin/R mzR.buildbin-libdir StartedAt: 2025-02-04 22:25:03 -0500 (Tue, 04 Feb 2025) EndedAt: 2025-02-04 22:27:37 -0500 (Tue, 04 Feb 2025) EllapsedTime: 154.4 seconds RetCode: 0 Status: OK PackageFile: mzR_2.41.1.tgz PackageFileSize: 3.556 MiB