Package: mzR Version: 2.41.1 Command: /Library/Frameworks/R.framework/Resources/bin/R CMD build --keep-empty-dirs --no-resave-data mzR StartedAt: 2025-02-04 17:06:13 -0500 (Tue, 04 Feb 2025) EndedAt: 2025-02-04 17:09:00 -0500 (Tue, 04 Feb 2025) EllapsedTime: 166.8 seconds RetCode: 0 Status: OK PackageFile: mzR_2.41.1.tar.gz PackageFileSize: 7.339 MiB