Package: mzR Version: 2.41.1 Command: /Library/Frameworks/R.framework/Resources/bin/R CMD check --install=check:mzR.install-out.txt --library=/Library/Frameworks/R.framework/Resources/library --no-vignettes --timings mzR_2.41.1.tar.gz StartedAt: 2025-02-04 20:24:59 -0500 (Tue, 04 Feb 2025) EndedAt: 2025-02-04 20:25:41 -0500 (Tue, 04 Feb 2025) EllapsedTime: 42.4 seconds RetCode: 0 Status: WARNINGS CheckDir: mzR.Rcheck Warnings: 2