Package: mzR Version: 2.41.1 Command: /Library/Frameworks/R.framework/Resources/bin/R CMD INSTALL mzR StartedAt: 2025-02-04 15:03:05 -0500 (Tue, 04 Feb 2025) EndedAt: 2025-02-04 15:05:27 -0500 (Tue, 04 Feb 2025) EllapsedTime: 141.3 seconds RetCode: 0 Status: OK