Package: mzR Version: 2.41.1 Command: /home/biocbuild/R/R/bin/R CMD build --keep-empty-dirs --no-resave-data mzR StartedAt: 2025-01-29 00:47:04 -0000 (Wed, 29 Jan 2025) EndedAt: 2025-01-29 01:01:40 -0000 (Wed, 29 Jan 2025) EllapsedTime: 876.1 seconds RetCode: 0 Status: OK PackageFile: mzR_2.41.1.tar.gz PackageFileSize: 7.406 MiB