Package: mzR Version: 2.41.1 Command: /home/biocbuild/R/R/bin/R CMD check --install=check:mzR.install-out.txt --library=/home/biocbuild/R/R/site-library --no-vignettes --timings mzR_2.41.1.tar.gz StartedAt: 2025-01-28 13:09:52 -0000 (Tue, 28 Jan 2025) EndedAt: 2025-01-28 13:12:11 -0000 (Tue, 28 Jan 2025) EllapsedTime: 139.3 seconds RetCode: 0 Status: WARNINGS CheckDir: mzR.Rcheck Warnings: 2