Package: mzR Version: 2.41.1 Command: rm -rf mzR.buildbin-libdir && mkdir mzR.buildbin-libdir && /Users/biocbuild/BBS/utils/build-universal.sh mzR_2.41.1.tar.gz /Library/Frameworks/R.framework/Resources/bin/R mzR.buildbin-libdir StartedAt: 2025-02-05 00:51:40 -0500 (Wed, 05 Feb 2025) EndedAt: 2025-02-05 01:01:57 -0500 (Wed, 05 Feb 2025) EllapsedTime: 616.9 seconds RetCode: 0 Status: OK PackageFile: mzR_2.41.1.tgz PackageFileSize: 4.032 MiB