Package: mzR Version: 2.41.1 Command: /Library/Frameworks/R.framework/Resources/bin/R CMD INSTALL mzR StartedAt: 2025-02-04 15:08:59 -0500 (Tue, 04 Feb 2025) EndedAt: 2025-02-04 15:18:28 -0500 (Tue, 04 Feb 2025) EllapsedTime: 569.2 seconds RetCode: 0 Status: OK