Package: mzR Version: 2.41.1 Command: /home/biocbuild/bbs-3.21-bioc/R/bin/R CMD check --install=check:mzR.install-out.txt --library=/home/biocbuild/bbs-3.21-bioc/R/site-library --timings mzR_2.41.1.tar.gz StartedAt: 2025-02-05 00:49:10 -0500 (Wed, 05 Feb 2025) EndedAt: 2025-02-05 00:50:36 -0500 (Wed, 05 Feb 2025) EllapsedTime: 86.1 seconds RetCode: 0 Status: WARNINGS CheckDir: mzR.Rcheck Warnings: 2