Package: mzR Version: 2.41.1 Command: /home/biocbuild/bbs-3.21-bioc/R/bin/R CMD INSTALL mzR StartedAt: 2025-02-04 15:12:30 -0500 (Tue, 04 Feb 2025) EndedAt: 2025-02-04 15:20:55 -0500 (Tue, 04 Feb 2025) EllapsedTime: 505.1 seconds RetCode: 0 Status: OK