Package: mzR Version: 2.41.1 Command: rm -rf mzR.buildbin-libdir && mkdir mzR.buildbin-libdir && E:\biocbuild\bbs-3.21-bioc\R\bin\R.exe CMD INSTALL --build --library=mzR.buildbin-libdir mzR_2.41.1.tar.gz StartedAt: 2025-02-05 08:27:50 -0500 (Wed, 05 Feb 2025) EndedAt: 2025-02-05 09:00:29 -0500 (Wed, 05 Feb 2025) EllapsedTime: 1958.8 seconds RetCode: 0 Status: OK PackageFile: mzR_2.41.1.zip PackageFileSize: 3.757 MiB