Package: mzR Version: 2.41.1 Command: E:\biocbuild\bbs-3.21-bioc\R\bin\R.exe CMD check --no-multiarch --install=check:mzR.install-out.txt --library=E:\biocbuild\bbs-3.21-bioc\R\library --no-vignettes --timings mzR_2.41.1.tar.gz StartedAt: 2025-02-10 03:29:39 -0500 (Mon, 10 Feb 2025) EndedAt: 2025-02-10 03:33:44 -0500 (Mon, 10 Feb 2025) EllapsedTime: 244.7 seconds RetCode: 0 Status: WARNINGS CheckDir: mzR.Rcheck Warnings: 2