Package: mzR Version: 2.41.1 Command: E:\biocbuild\bbs-3.21-bioc\R\bin\R.exe CMD INSTALL mzR StartedAt: 2025-02-04 15:23:53 -0500 (Tue, 04 Feb 2025) EndedAt: 2025-02-04 15:50:16 -0500 (Tue, 04 Feb 2025) EllapsedTime: 1582.4 seconds RetCode: 0 Status: OK