Package: ncGTW Version: 1.21.0 Command: /Library/Frameworks/R.framework/Resources/bin/R CMD check --install=check:ncGTW.install-out.txt --library=/Library/Frameworks/R.framework/Resources/library --no-vignettes --timings ncGTW_1.21.0.tar.gz StartedAt: 2025-02-09 20:24:51 -0500 (Sun, 09 Feb 2025) EndedAt: 2025-02-09 20:28:14 -0500 (Sun, 09 Feb 2025) EllapsedTime: 203.5 seconds RetCode: 0 Status: OK CheckDir: ncGTW.Rcheck Warnings: 0