Package: ncGTW Version: 1.21.0 Command: /Library/Frameworks/R.framework/Resources/bin/R CMD INSTALL ncGTW StartedAt: 2025-02-12 15:19:40 -0500 (Wed, 12 Feb 2025) EndedAt: 2025-02-12 15:20:04 -0500 (Wed, 12 Feb 2025) EllapsedTime: 24.1 seconds RetCode: 0 Status: OK