Package: ncGTW Version: 1.21.0 Command: rm -rf ncGTW.buildbin-libdir && mkdir ncGTW.buildbin-libdir && /Users/biocbuild/BBS/utils/build-universal.sh ncGTW_1.21.0.tar.gz /Library/Frameworks/R.framework/Resources/bin/R ncGTW.buildbin-libdir StartedAt: 2025-02-10 01:05:41 -0500 (Mon, 10 Feb 2025) EndedAt: 2025-02-10 01:07:09 -0500 (Mon, 10 Feb 2025) EllapsedTime: 87.7 seconds RetCode: 0 Status: OK PackageFile: ncGTW_1.21.0.tgz PackageFileSize: 2.103 MiB