Package: ncGTW Version: 1.21.0 Command: rm -rf ncGTW.buildbin-libdir && mkdir ncGTW.buildbin-libdir && E:\biocbuild\bbs-3.21-bioc\R\bin\R.exe CMD INSTALL --build --library=ncGTW.buildbin-libdir ncGTW_1.21.0.tar.gz StartedAt: 2025-02-13 08:26:41 -0500 (Thu, 13 Feb 2025) EndedAt: 2025-02-13 08:28:02 -0500 (Thu, 13 Feb 2025) EllapsedTime: 81.0 seconds RetCode: 0 Status: OK PackageFile: ncGTW_1.21.0.zip PackageFileSize: 1.74 MiB